BEGIN:VCALENDAR
VERSION:2.0
PRODID:-//Regis College - ECPv6.15.20//NONSGML v1.0//EN
CALSCALE:GREGORIAN
METHOD:PUBLISH
X-WR-CALNAME:Regis College
X-ORIGINAL-URL:https://regiscollege.ca
X-WR-CALDESC:Events for Regis College
REFRESH-INTERVAL;VALUE=DURATION:PT1H
X-Robots-Tag:noindex
X-PUBLISHED-TTL:PT1H
BEGIN:VTIMEZONE
TZID:America/Toronto
BEGIN:DAYLIGHT
TZOFFSETFROM:-0500
TZOFFSETTO:-0400
TZNAME:EDT
DTSTART:20190310T070000
END:DAYLIGHT
BEGIN:STANDARD
TZOFFSETFROM:-0400
TZOFFSETTO:-0500
TZNAME:EST
DTSTART:20191103T060000
END:STANDARD
BEGIN:DAYLIGHT
TZOFFSETFROM:-0500
TZOFFSETTO:-0400
TZNAME:EDT
DTSTART:20200308T070000
END:DAYLIGHT
BEGIN:STANDARD
TZOFFSETFROM:-0400
TZOFFSETTO:-0500
TZNAME:EST
DTSTART:20201101T060000
END:STANDARD
BEGIN:DAYLIGHT
TZOFFSETFROM:-0500
TZOFFSETTO:-0400
TZNAME:EDT
DTSTART:20210314T070000
END:DAYLIGHT
BEGIN:STANDARD
TZOFFSETFROM:-0400
TZOFFSETTO:-0500
TZNAME:EST
DTSTART:20211107T060000
END:STANDARD
END:VTIMEZONE
BEGIN:VEVENT
DTSTART;TZID=America/Toronto:20200229T103000
DTEND;TZID=America/Toronto:20200229T150000
DTSTAMP:20260422T022750
CREATED:20200205T201948Z
LAST-MODIFIED:20200218T143827Z
UID:12694-1582972200-1582988400@regiscollege.ca
SUMMARY:Ignatian Urban Pilgrimage: Finding God in the City
DESCRIPTION:Please use the form below to RSVP:\n\n 
URL:https://regiscollege.ca/event/ignatian-urban-pilgrimage-2020/
LOCATION:Loretto College\, 70 St. Mary Street\, Toronto\, Ontario\, M5S 1J3\, Canada
CATEGORIES:Community Groups,Current Students,Regis College,Retreat
ORGANIZER;CN="Regis College":MAILTO:regis.communications@utoronto.ca
GEO:43.6672256;-79.3900187
X-APPLE-STRUCTURED-LOCATION;VALUE=URI;X-ADDRESS=Loretto College 70 St. Mary Street Toronto Ontario M5S 1J3 Canada;X-APPLE-RADIUS=500;X-TITLE=70 St. Mary Street:geo:-79.3900187,43.6672256
END:VEVENT
BEGIN:VEVENT
DTSTART;TZID=America/Toronto:20200209T090000
DTEND;TZID=America/Toronto:20200209T170000
DTSTAMP:20260422T022750
CREATED:20200203T162945Z
LAST-MODIFIED:20200205T205831Z
UID:12682-1581238800-1581267600@regiscollege.ca
SUMMARY:MountainGoat Group - Snowshoeing to Ignatius Guelph
DESCRIPTION:
URL:https://regiscollege.ca/event/mountaingoat-group-snow-shoeing-to-ignatius-guelph/
LOCATION:Loretto College\, 70 St. Mary Street\, Toronto\, Ontario\, M5S 1J3\, Canada
CATEGORIES:Community Groups,Current Students,Regis College
ORGANIZER;CN="Regis College":MAILTO:regis.communications@utoronto.ca
GEO:43.6672256;-79.3900187
X-APPLE-STRUCTURED-LOCATION;VALUE=URI;X-ADDRESS=Loretto College 70 St. Mary Street Toronto Ontario M5S 1J3 Canada;X-APPLE-RADIUS=500;X-TITLE=70 St. Mary Street:geo:-79.3900187,43.6672256
END:VEVENT
END:VCALENDAR