BEGIN:VCALENDAR
VERSION:2.0
PRODID:-//Regis College - ECPv6.15.20//NONSGML v1.0//EN
CALSCALE:GREGORIAN
METHOD:PUBLISH
X-ORIGINAL-URL:https://regiscollege.ca
X-WR-CALDESC:Events for Regis College
REFRESH-INTERVAL;VALUE=DURATION:PT1H
X-Robots-Tag:noindex
X-PUBLISHED-TTL:PT1H
BEGIN:VTIMEZONE
TZID:America/Toronto
BEGIN:DAYLIGHT
TZOFFSETFROM:-0500
TZOFFSETTO:-0400
TZNAME:EDT
DTSTART:20180311T070000
END:DAYLIGHT
BEGIN:STANDARD
TZOFFSETFROM:-0400
TZOFFSETTO:-0500
TZNAME:EST
DTSTART:20181104T060000
END:STANDARD
BEGIN:DAYLIGHT
TZOFFSETFROM:-0500
TZOFFSETTO:-0400
TZNAME:EDT
DTSTART:20190310T070000
END:DAYLIGHT
BEGIN:STANDARD
TZOFFSETFROM:-0400
TZOFFSETTO:-0500
TZNAME:EST
DTSTART:20191103T060000
END:STANDARD
BEGIN:DAYLIGHT
TZOFFSETFROM:-0500
TZOFFSETTO:-0400
TZNAME:EDT
DTSTART:20200308T070000
END:DAYLIGHT
BEGIN:STANDARD
TZOFFSETFROM:-0400
TZOFFSETTO:-0500
TZNAME:EST
DTSTART:20201101T060000
END:STANDARD
BEGIN:DAYLIGHT
TZOFFSETFROM:-0500
TZOFFSETTO:-0400
TZNAME:EDT
DTSTART:20210314T070000
END:DAYLIGHT
BEGIN:STANDARD
TZOFFSETFROM:-0400
TZOFFSETTO:-0500
TZNAME:EST
DTSTART:20211107T060000
END:STANDARD
BEGIN:DAYLIGHT
TZOFFSETFROM:-0500
TZOFFSETTO:-0400
TZNAME:EDT
DTSTART:20220313T070000
END:DAYLIGHT
BEGIN:STANDARD
TZOFFSETFROM:-0400
TZOFFSETTO:-0500
TZNAME:EST
DTSTART:20221106T060000
END:STANDARD
BEGIN:DAYLIGHT
TZOFFSETFROM:-0500
TZOFFSETTO:-0400
TZNAME:EDT
DTSTART:20230312T070000
END:DAYLIGHT
BEGIN:STANDARD
TZOFFSETFROM:-0400
TZOFFSETTO:-0500
TZNAME:EST
DTSTART:20231105T060000
END:STANDARD
END:VTIMEZONE
BEGIN:VEVENT
DTSTART;TZID=America/Toronto:20220203T180000
DTEND;TZID=America/Toronto:20220203T193000
DTSTAMP:20260422T115640
CREATED:20220121T184145Z
LAST-MODIFIED:20220121T184423Z
UID:18146-1643911200-1643916600@regiscollege.ca
SUMMARY:Synod on Synodality - Listening Circle
DESCRIPTION:Listening Circle on Synodality – Regis College and Faculty of Theology St. Mike’s“Synod on Synodality”Listening and Sharing Our Voices and Experiences with Others! \n\n\nThe Regis student body is invited to join the St. Michael’s student body in reflecting and contributing to the Synod’s process.\n\n\n\nClick here to register
URL:https://regiscollege.ca/event/synod-on-synodality-listening-circle/
LOCATION:Online\, Canada
GEO:56.130366;-106.346771
END:VEVENT
BEGIN:VEVENT
DTSTART;TZID=America/Toronto:20211112T083000
DTEND;TZID=America/Toronto:20211112T131500
DTSTAMP:20260422T115640
CREATED:20211102T155617Z
LAST-MODIFIED:20211102T155617Z
UID:17771-1636705800-1636722900@regiscollege.ca
SUMMARY:Doing Theology Amid a Changing Climate: Crossing Global Divides
DESCRIPTION:
URL:https://regiscollege.ca/event/doing-theology-amid-a-changing-climate-crossing-global-divides-2/
LOCATION:Online\, Canada
GEO:56.130366;-106.346771
END:VEVENT
BEGIN:VEVENT
DTSTART;TZID=America/Toronto:20211111T190000
DTEND;TZID=America/Toronto:20211111T203000
DTSTAMP:20260422T115640
CREATED:20211101T193524Z
LAST-MODIFIED:20211102T155521Z
UID:17763-1636657200-1636662600@regiscollege.ca
SUMMARY:Doing Theology Amid a Changing Climate: Crossing Global Divides
DESCRIPTION:
URL:https://regiscollege.ca/event/doing-theology-amid-a-changing-climate-crossing-global-divides/
LOCATION:Online\, Canada
GEO:56.130366;-106.346771
END:VEVENT
BEGIN:VEVENT
DTSTART;TZID=America/Toronto:20190914T100000
DTEND;TZID=America/Toronto:20190914T123000
DTSTAMP:20260422T115640
CREATED:20190823T155504Z
LAST-MODIFIED:20190823T155644Z
UID:11191-1568455200-1568464200@regiscollege.ca
SUMMARY:Talking Faith: Hindu and Catholic Youth
DESCRIPTION:On Saturday\, September 14\, the University of St. Michael’s College is hosting an open and interactive session “Talking Faith: Hindu and Catholic Youth\,” coordinated by the Canadian Conference of Catholic Bishops and the Hindu Federation of Canada Dialogue. All are welcome to attend this public event\, where youth speak their minds on their journey to faith. The event will take place in the basement of St. Basil’s Parish (Macrina Hall) from 10:30 a.m. to 12:30 p.m.\, with registration beginning at at 10 a.m. Following the session\, lunch will be served. For any questions\, please contact 905-696-8886.
URL:https://regiscollege.ca/event/talking-faith/
LOCATION:St. Michael’s College\, 81 St Mary Street\, Toronto\, Ontario\, M5S 1J4\, Canada
CATEGORIES:Regis College
GEO:43.6668915;-79.3904134
X-APPLE-STRUCTURED-LOCATION;VALUE=URI;X-ADDRESS=St. Michael’s College 81 St Mary Street Toronto Ontario M5S 1J4 Canada;X-APPLE-RADIUS=500;X-TITLE=81 St Mary Street:geo:-79.3904134,43.6668915
END:VEVENT
END:VCALENDAR