BEGIN:VCALENDAR
VERSION:2.0
PRODID:-//Regis College - ECPv6.15.20//NONSGML v1.0//EN
CALSCALE:GREGORIAN
METHOD:PUBLISH
X-WR-CALNAME:Regis College
X-ORIGINAL-URL:https://regiscollege.ca
X-WR-CALDESC:Events for Regis College
REFRESH-INTERVAL;VALUE=DURATION:PT1H
X-Robots-Tag:noindex
X-PUBLISHED-TTL:PT1H
BEGIN:VTIMEZONE
TZID:America/Toronto
BEGIN:DAYLIGHT
TZOFFSETFROM:-0500
TZOFFSETTO:-0400
TZNAME:EDT
DTSTART:20190310T070000
END:DAYLIGHT
BEGIN:STANDARD
TZOFFSETFROM:-0400
TZOFFSETTO:-0500
TZNAME:EST
DTSTART:20191103T060000
END:STANDARD
BEGIN:DAYLIGHT
TZOFFSETFROM:-0500
TZOFFSETTO:-0400
TZNAME:EDT
DTSTART:20200308T070000
END:DAYLIGHT
BEGIN:STANDARD
TZOFFSETFROM:-0400
TZOFFSETTO:-0500
TZNAME:EST
DTSTART:20201101T060000
END:STANDARD
BEGIN:DAYLIGHT
TZOFFSETFROM:-0500
TZOFFSETTO:-0400
TZNAME:EDT
DTSTART:20210314T070000
END:DAYLIGHT
BEGIN:STANDARD
TZOFFSETFROM:-0400
TZOFFSETTO:-0500
TZNAME:EST
DTSTART:20211107T060000
END:STANDARD
END:VTIMEZONE
BEGIN:VEVENT
DTSTART;TZID=America/Toronto:20200302T190000
DTEND;TZID=America/Toronto:20200302T200000
DTSTAMP:20260422T044150
CREATED:20200213T141511Z
LAST-MODIFIED:20200224T201155Z
UID:12744-1583175600-1583179200@regiscollege.ca
SUMMARY:Tafelmusik Panel - Art\, Religion\, and Culture: Bach and St. John Passion
DESCRIPTION:The Tafelmusik Baroque Orchestra and Chamber Choir explores the contexts of the St John Passion in a discerning panel discussion featuring our own Professor Gordon A. Rixon\, SJ\, and Adjunct Professor Katharine Lochnan\, plus Choir Director Ivars Taurins\, and Norman Tobias. Facilitated by Michelle Voss Roberts (Principal\, Emmanuel College). \n\n\n  \n  \n\n\nClick here to purchase your FREE ticket to this panel event – limit of 4 per customer\n 
URL:https://regiscollege.ca/event/tafelmusik-panel-art-religion-and-culture-bach-and-st-john-passion/
LOCATION:Trinity-St. Paul’s Centre\, 427 Bloor Street West\, Toronto\, Ontario\, M5S 1X7\, Canada
CATEGORIES:Community Groups,Faculty & Staff,General
ORGANIZER;CN="Regis College":MAILTO:regis.communications@utoronto.ca
GEO:43.6659727;-79.4057664
X-APPLE-STRUCTURED-LOCATION;VALUE=URI;X-ADDRESS=Trinity-St. Paul’s Centre 427 Bloor Street West Toronto Ontario M5S 1X7 Canada;X-APPLE-RADIUS=500;X-TITLE=427 Bloor Street West:geo:-79.4057664,43.6659727
END:VEVENT
END:VCALENDAR