BEGIN:VCALENDAR
VERSION:2.0
PRODID:-//Regis College - ECPv6.15.20//NONSGML v1.0//EN
CALSCALE:GREGORIAN
METHOD:PUBLISH
X-WR-CALNAME:Regis College
X-ORIGINAL-URL:https://regiscollege.ca
X-WR-CALDESC:Events for Regis College
REFRESH-INTERVAL;VALUE=DURATION:PT1H
X-Robots-Tag:noindex
X-PUBLISHED-TTL:PT1H
BEGIN:VTIMEZONE
TZID:America/Toronto
BEGIN:DAYLIGHT
TZOFFSETFROM:-0500
TZOFFSETTO:-0400
TZNAME:EDT
DTSTART:20160313T070000
END:DAYLIGHT
BEGIN:STANDARD
TZOFFSETFROM:-0400
TZOFFSETTO:-0500
TZNAME:EST
DTSTART:20161106T060000
END:STANDARD
BEGIN:DAYLIGHT
TZOFFSETFROM:-0500
TZOFFSETTO:-0400
TZNAME:EDT
DTSTART:20170312T070000
END:DAYLIGHT
BEGIN:STANDARD
TZOFFSETFROM:-0400
TZOFFSETTO:-0500
TZNAME:EST
DTSTART:20171105T060000
END:STANDARD
BEGIN:DAYLIGHT
TZOFFSETFROM:-0500
TZOFFSETTO:-0400
TZNAME:EDT
DTSTART:20180311T070000
END:DAYLIGHT
BEGIN:STANDARD
TZOFFSETFROM:-0400
TZOFFSETTO:-0500
TZNAME:EST
DTSTART:20181104T060000
END:STANDARD
END:VTIMEZONE
BEGIN:VEVENT
DTSTART;TZID=America/Toronto:20170322T110000
DTEND;TZID=America/Toronto:20170322T130000
DTSTAMP:20260421T210457
CREATED:20170308T164512Z
LAST-MODIFIED:20170308T201244Z
UID:5979-1490180400-1490187600@regiscollege.ca
SUMMARY:Windows on Theology
DESCRIPTION:Ethical Issues in End of Life Care\nPresented by Professor Bridget Campion \n  \nEuthanasia. Physician-Assisted Death. Withdrawing Treatment. With the rise of medical technology and the recent legalization of medically assisted death in Canada\, the “ethics” of dying can seem daunting.  This 5-week series will examine ethical issues in end-of-life care and draw on relevant Catholic Church Teaching for guidance. \n  \nEnrollment is limited. Please pre-register to guarantee your seat. Enroll online (valid Visa or MasterCard required).  Course fee: $115.00 \nRegister Online\n  \n  \n 
URL:https://regiscollege.ca/event/windows-on-theology-3/2017-03-22/
LOCATION:Regis College\, 100 Wellesley Street West\, Toronto\, Ontario\, M5S 2Z5\, Canada
CATEGORIES:Regis College
ATTACH;FMTTYPE=image/jpeg:https://regiscollege.ca/wp-content/uploads/2017/03/WOT-Summer-2017-Ethical-Issues-on-End-of-Life-Care.jpg
ORGANIZER;CN="Regis College":MAILTO:regis.communications@utoronto.ca
GEO:43.6639913;-79.3900385
X-APPLE-STRUCTURED-LOCATION;VALUE=URI;X-ADDRESS=Regis College 100 Wellesley Street West Toronto Ontario M5S 2Z5 Canada;X-APPLE-RADIUS=500;X-TITLE=100 Wellesley Street West:geo:-79.3900385,43.6639913
END:VEVENT
END:VCALENDAR