BEGIN:VCALENDAR
VERSION:2.0
PRODID:-//Regis College - ECPv6.15.20//NONSGML v1.0//EN
CALSCALE:GREGORIAN
METHOD:PUBLISH
X-ORIGINAL-URL:https://regiscollege.ca
X-WR-CALDESC:Events for Regis College
REFRESH-INTERVAL;VALUE=DURATION:PT1H
X-Robots-Tag:noindex
X-PUBLISHED-TTL:PT1H
BEGIN:VTIMEZONE
TZID:America/Toronto
BEGIN:DAYLIGHT
TZOFFSETFROM:-0500
TZOFFSETTO:-0400
TZNAME:EDT
DTSTART:20160313T070000
END:DAYLIGHT
BEGIN:STANDARD
TZOFFSETFROM:-0400
TZOFFSETTO:-0500
TZNAME:EST
DTSTART:20161106T060000
END:STANDARD
BEGIN:DAYLIGHT
TZOFFSETFROM:-0500
TZOFFSETTO:-0400
TZNAME:EDT
DTSTART:20170312T070000
END:DAYLIGHT
BEGIN:STANDARD
TZOFFSETFROM:-0400
TZOFFSETTO:-0500
TZNAME:EST
DTSTART:20171105T060000
END:STANDARD
BEGIN:DAYLIGHT
TZOFFSETFROM:-0500
TZOFFSETTO:-0400
TZNAME:EDT
DTSTART:20180311T070000
END:DAYLIGHT
BEGIN:STANDARD
TZOFFSETFROM:-0400
TZOFFSETTO:-0500
TZNAME:EST
DTSTART:20181104T060000
END:STANDARD
END:VTIMEZONE
BEGIN:VEVENT
DTSTART;TZID=America/Toronto:20170913T110000
DTEND;TZID=America/Toronto:20170913T130000
DTSTAMP:20260421T213129
CREATED:20170329T152046Z
LAST-MODIFIED:20170405T154643Z
UID:6277-1505300400-1505307600@regiscollege.ca
SUMMARY:Windows on Theology
DESCRIPTION:Suffering and the Wisdom of the Body\nPresented by Ann Sirek\n  \nStoried rationality\, metaphors and symbols\, the knowing of the sensing body\, the passions\, the senses\, movement as rationality\, approaches to the paschal mystery… all coming together as practical reason moving us out of suffering into flourishing\, now and forever. This 6-week course will explore an uncommon meaning of rationality\, namely\, the logic of movement toward the good in terms of one’s sensed bodily vitality. \n  \nThis series will take place on select Wednesdays throughout the Fall 2017 semester: \n\nWednesday\, September 13\, 2017\nWednesday\, September 27\, 2017\nWednesday\, October 11\, 2017\nWednesday\, November 8\, 2017\nWednesday\, November 22\, 2017\nWednesday\, December 6\, 2017\n\n  \n  \nEnrollment is limited. Please pre-register to guarantee your seat. Enroll online (valid Visa or MasterCard required). Course fee: $145.00 per course. \nRegister Online\n 
URL:https://regiscollege.ca/event/windows-on-theology-2/2017-09-13/
LOCATION:Regis College\, 100 Wellesley Street West\, Toronto\, Ontario\, M5S 2Z5\, Canada
CATEGORIES:Academic Calendar,Regis College
ATTACH;FMTTYPE=image/jpeg:https://regiscollege.ca/wp-content/uploads/2017/03/WOT-September-2017-SufferingWisdom.jpg
ORGANIZER;CN="Regis College":MAILTO:regis.communications@utoronto.ca
GEO:43.6639913;-79.3900385
X-APPLE-STRUCTURED-LOCATION;VALUE=URI;X-ADDRESS=Regis College 100 Wellesley Street West Toronto Ontario M5S 2Z5 Canada;X-APPLE-RADIUS=500;X-TITLE=100 Wellesley Street West:geo:-79.3900385,43.6639913
END:VEVENT
END:VCALENDAR