BEGIN:VCALENDAR
VERSION:2.0
PRODID:-//Regis College - ECPv6.15.20//NONSGML v1.0//EN
CALSCALE:GREGORIAN
METHOD:PUBLISH
X-ORIGINAL-URL:https://regiscollege.ca
X-WR-CALDESC:Events for Regis College
REFRESH-INTERVAL;VALUE=DURATION:PT1H
X-Robots-Tag:noindex
X-PUBLISHED-TTL:PT1H
BEGIN:VTIMEZONE
TZID:America/Toronto
BEGIN:DAYLIGHT
TZOFFSETFROM:-0500
TZOFFSETTO:-0400
TZNAME:EDT
DTSTART:20160313T070000
END:DAYLIGHT
BEGIN:STANDARD
TZOFFSETFROM:-0400
TZOFFSETTO:-0500
TZNAME:EST
DTSTART:20161106T060000
END:STANDARD
BEGIN:DAYLIGHT
TZOFFSETFROM:-0500
TZOFFSETTO:-0400
TZNAME:EDT
DTSTART:20170312T070000
END:DAYLIGHT
BEGIN:STANDARD
TZOFFSETFROM:-0400
TZOFFSETTO:-0500
TZNAME:EST
DTSTART:20171105T060000
END:STANDARD
BEGIN:DAYLIGHT
TZOFFSETFROM:-0500
TZOFFSETTO:-0400
TZNAME:EDT
DTSTART:20180311T070000
END:DAYLIGHT
BEGIN:STANDARD
TZOFFSETFROM:-0400
TZOFFSETTO:-0500
TZNAME:EST
DTSTART:20181104T060000
END:STANDARD
END:VTIMEZONE
BEGIN:VEVENT
DTSTART;TZID=America/Toronto:20170201T190000
DTEND;TZID=America/Toronto:20170201T210000
DTSTAMP:20260423T130957
CREATED:20161207T190154Z
LAST-MODIFIED:20170206T192702Z
UID:5509-1485975600-1485982800@regiscollege.ca
SUMMARY:Faith Issues Today: The Joy of the Gospel - Evangelii Gaudium
DESCRIPTION:  \nUsing the challenging and thought-provoking apostolic exhortation Evangelii Gaudium (The Joy of the Gospel)\, this four-part series will explore Pope Francis’ roadmap for the Church’s pastoral mission and work in the world.\n  \nWednesday\, February 1\, 2017 – Scott Lewis S.J.: From the Heart of the Gospel – A Church Which Goes Forth (Chapter 1)  \n  \nWednesday\, February 8\, 2017 – Dr. Margaret Lavin : Pope Francis in Evangelii Gaudium exhorts all communities to an “ever watchful scrutiny of the signs of the times” To bring this exhortation home\, the Jesuits of English Canada stated that “reconciliation between Native and non-Native Canadians is becoming a major theme in Canadian life\,” This presentation will probe how we can bring the joy of the Gospel to this reconciliation. \n  \nWednesday\, February 15\, 2017 –  Sr. (Dr.) Mary Rowell: The Proclamation of the Gospel: The Entire People of God Proclaim the Gospel (Chapter 3) \n  \nWednesday\, March 1\, 2017  – Dr. William Ryan S.J. and Kevin Kelly S.J.: The Inclusion of All – The Social Dimension of Evangelization (Chapter 4).  Pope Francis’s Evangelii Gaudium\, The social dimension of Evangelization\, summarizes in his own words “…at the heart of the Gospel is life in community and engagement with others.”(177) This session will include a lecture on the content of the chapter followed by a sharing of practical approaches for application and action. \n  \nEnrollment is limited. Please pre-register to guarantee your space. Register online (valid Visa or MasterCard required). Course Fee: $50.00 \n  \nREGISTER HERE
URL:https://regiscollege.ca/event/faith-issues-today-2/2017-02-01/
LOCATION:Regis College\, 100 Wellesley Street West\, Toronto\, Ontario\, M5S 2Z5\, Canada
CATEGORIES:Faith Issues Today
ORGANIZER;CN="Regis College":MAILTO:regis.communications@utoronto.ca
GEO:43.6639913;-79.3900385
X-APPLE-STRUCTURED-LOCATION;VALUE=URI;X-ADDRESS=Regis College 100 Wellesley Street West Toronto Ontario M5S 2Z5 Canada;X-APPLE-RADIUS=500;X-TITLE=100 Wellesley Street West:geo:-79.3900385,43.6639913
END:VEVENT
END:VCALENDAR